BEGIN:VCALENDAR
VERSION:2.0
PRODID:-//Wichita Veterans Memorial Park - ECPv6.15.20//NONSGML v1.0//EN
CALSCALE:GREGORIAN
METHOD:PUBLISH
X-WR-CALNAME:Wichita Veterans Memorial Park
X-ORIGINAL-URL:https://wichitaveteransmemorialpark.com
X-WR-CALDESC:Events for Wichita Veterans Memorial Park
REFRESH-INTERVAL;VALUE=DURATION:PT1H
X-Robots-Tag:noindex
X-PUBLISHED-TTL:PT1H
BEGIN:VTIMEZONE
TZID:UTC
BEGIN:STANDARD
TZOFFSETFROM:+0000
TZOFFSETTO:+0000
TZNAME:UTC
DTSTART:20240101T000000
END:STANDARD
END:VTIMEZONE
BEGIN:VEVENT
DTSTART;TZID=UTC:20250911T100000
DTEND;TZID=UTC:20250911T230000
DTSTAMP:20260422T084125
CREATED:20250826T180150Z
LAST-MODIFIED:20250826T180150Z
UID:17658-1757584800-1757631600@wichitaveteransmemorialpark.com
SUMMARY:Commemoration of the 9/11 Attack and the Global War on Terror - 2025
DESCRIPTION:On September 11th\, 2025 at 10:00 am\, the Veterans Memorial Park Board of Wichita will host a ceremony to commemorate the events of 9/11/2001 and pay tribute to the Veterans who served in the subsequent Global War on Terror.  Held at the Park’s Operation Freedom Memorial\, the event will begin with the presentation of the Colors by the McConnell AFB Honor Guard\, National Anthem and Pledge of Allegiance.  This is followed by an Invocation and remarks by keynote speaker and Veteran Noah Taylor.  After the playing of Amazing Grace\, the American Legion Post 4 Honor Guard will fire a 3-volley salute.  The event will conclude with the bugler(s) sounding TAPS for those who have paid the ultimate sacrifice.\nThis event is open to the public\, but since there will be limited seating\, guests who wish to sit may want to bring their own lawn chairs.
URL:https://wichitaveteransmemorialpark.com/event/commemoration-of-the-9-11-attack-and-the-global-war-on-terror-2025/
LOCATION:Wichita Veterans Memorial Park\, 339 Veterans Parkway\, Wichita\, KS\, 67203\, United States
CATEGORIES:2025
ATTACH;FMTTYPE=image/jpeg:https://wichitaveteransmemorialpark.com/wp-content/uploads/2022/04/9-11-patch.jpg
ORGANIZER;CN="WVMP":MAILTO:VMPWI2022@gmail.com
END:VEVENT
END:VCALENDAR