BEGIN:VCALENDAR
VERSION:2.0
PRODID:-//Wichita Veterans Memorial Park - ECPv6.15.20//NONSGML v1.0//EN
CALSCALE:GREGORIAN
METHOD:PUBLISH
X-WR-CALNAME:Wichita Veterans Memorial Park
X-ORIGINAL-URL:https://wichitaveteransmemorialpark.com
X-WR-CALDESC:Events for Wichita Veterans Memorial Park
REFRESH-INTERVAL;VALUE=DURATION:PT1H
X-Robots-Tag:noindex
X-PUBLISHED-TTL:PT1H
BEGIN:VTIMEZONE
TZID:UTC
BEGIN:STANDARD
TZOFFSETFROM:+0000
TZOFFSETTO:+0000
TZNAME:UTC
DTSTART:20170101T000000
END:STANDARD
END:VTIMEZONE
BEGIN:VTIMEZONE
TZID:America/North_Dakota/Center
BEGIN:DAYLIGHT
TZOFFSETFROM:-0600
TZOFFSETTO:-0500
TZNAME:CDT
DTSTART:20180311T080000
END:DAYLIGHT
BEGIN:STANDARD
TZOFFSETFROM:-0500
TZOFFSETTO:-0600
TZNAME:CST
DTSTART:20181104T070000
END:STANDARD
BEGIN:DAYLIGHT
TZOFFSETFROM:-0600
TZOFFSETTO:-0500
TZNAME:CDT
DTSTART:20190310T080000
END:DAYLIGHT
BEGIN:STANDARD
TZOFFSETFROM:-0500
TZOFFSETTO:-0600
TZNAME:CST
DTSTART:20191103T070000
END:STANDARD
BEGIN:DAYLIGHT
TZOFFSETFROM:-0600
TZOFFSETTO:-0500
TZNAME:CDT
DTSTART:20200308T080000
END:DAYLIGHT
BEGIN:STANDARD
TZOFFSETFROM:-0500
TZOFFSETTO:-0600
TZNAME:CST
DTSTART:20201101T070000
END:STANDARD
END:VTIMEZONE
BEGIN:VEVENT
DTSTART;TZID=UTC:20210531T110000
DTEND;TZID=UTC:20210531T120000
DTSTAMP:20260422T051611
CREATED:20210325T235335Z
LAST-MODIFIED:20210531T210607Z
UID:16367-1622458800-1622462400@wichitaveteransmemorialpark.com
SUMMARY:Memorial Day Commemoration
DESCRIPTION:(Unfortunately\, this event was canceled due to inclement weather.) \nOriginally known as Decoration Day\, Memorial Day is observed on the last Monday of May. On this day\, the men and women who died while serving in the U.S. military are honored. Memorial Day originated in the years following the Civil War and became an official federal holiday in 1971. \nIn recognition of Memorial Day\, a brief ceremony will be held at WVMP;s Flag Pavilion involving: \n\nFlag-lined entry sidewalk to the Park’s Flag Pavilion\nIntroduction and opening remarks\nChaplain invocation\nSpeaker (TBD)\nColor guard presentation of The Colors\n21-gun salute\n“Taps” played on the trumpet
URL:https://wichitaveteransmemorialpark.com/event/memorial-day-commemoration/
ATTACH;FMTTYPE=image/jpeg:https://wichitaveteransmemorialpark.com/wp-content/uploads/2020/05/WVMP_Mem_Day_2020_1_flag_pavilion_at_half_mast_1-scaled.jpg
END:VEVENT
BEGIN:VEVENT
DTSTART;TZID=UTC:20210508T100000
DTEND;TZID=UTC:20210508T110000
DTSTAMP:20260422T051611
CREATED:20210325T234027Z
LAST-MODIFIED:20210402T020510Z
UID:16365-1620468000-1620471600@wichitaveteransmemorialpark.com
SUMMARY:Victory in Europe (VE) Day Commemoration
DESCRIPTION:“Victory in Europe Day is the day celebrating the formal acceptance by the Allies of World War II of Germany’s unconditional surrender of its armed forces on Tuesday\, 8 May 1945\, marking the end of World War II in Europe. (SOURCE: Wikipedia\, Victory in Europe Day.) \nIn commemoration of the war against “Hitler’s Germany” ending on this day\, a ceremony will be held at the Park’s World War Two Memorial. The ceremony will involve: \n  \n\nWreath laying\nChaplain\nPlaying “Taps” on the trumpet
URL:https://wichitaveteransmemorialpark.com/event/victory-in-europe-ve-day-commemoration/
ATTACH;FMTTYPE=image/jpeg:https://wichitaveteransmemorialpark.com/wp-content/uploads/2019/11/Mem-Day-VMP-14-WW-monument-1-w-byline.jpg
END:VEVENT
BEGIN:VEVENT
DTSTART;TZID=UTC:20210409T154500
DTEND;TZID=UTC:20210409T154500
DTSTAMP:20260422T051611
CREATED:20210303T013233Z
LAST-MODIFIED:20210325T232756Z
UID:16313-1617983100-1617983100@wichitaveteransmemorialpark.com
SUMMARY:Civil War Reconciliation Event
DESCRIPTION:In recognition of the Civil War ending at 3:45. (When the surrender was signed according to historians.) \n  \n\nWreath laying at the Reconciliation Monument by the Flag Pavilion\nChaplain\nPlaying “Taps” on the trumpet
URL:https://wichitaveteransmemorialpark.com/event/civil-war-reconciliation-event/
ATTACH;FMTTYPE=image/jpeg:https://wichitaveteransmemorialpark.com/wp-content/uploads/2021/03/Reconciliation-Monument-1.jpg
END:VEVENT
BEGIN:VEVENT
DTSTART;TZID=UTC:20210329T120000
DTEND;TZID=UTC:20210329T124500
DTSTAMP:20260422T051611
CREATED:20210303T010924Z
LAST-MODIFIED:20210325T233040Z
UID:16305-1617019200-1617021900@wichitaveteransmemorialpark.com
SUMMARY:Vietnam Veterans Recognition Day
DESCRIPTION:In 2017 President Trump designated March 29th as National Vietnam Veterans Day. This was the last day troops were withdrawn from Vietnam. \nIn recognition of Vietnam Veterans\, a brief ceremony will be held at WVMP;s Flag Pavilion involving: \n\nFlag-lined entry sidewalk to the Park’s Flag Pavilion\nIntroduction and opening remarks\nChaplain invocation\n3 Vietnam Veterans speaking on “What Vietnam Veterans Recognition Day” means to them.\nColor guard presentation of The Colors\n21-gun salute\n“Taps” played on the trumpet
URL:https://wichitaveteransmemorialpark.com/event/vietnam-veterans-recognition-day/
ATTACH;FMTTYPE=image/jpeg:https://wichitaveteransmemorialpark.com/wp-content/uploads/2021/03/Vietnam-service-ribbons-and-POW-MIA-flag-background.jpg
END:VEVENT
BEGIN:VEVENT
DTSTART;TZID=UTC:20210313T110000
DTEND;TZID=UTC:20210313T110000
DTSTAMP:20260422T051611
CREATED:20210303T014127Z
LAST-MODIFIED:20210325T233239Z
UID:16318-1615633200-1615633200@wichitaveteransmemorialpark.com
SUMMARY:US Army Recruit Swearing-In Ceremony
DESCRIPTION:New recruits joining the US Army will be sworn in at WVMP. \n 
URL:https://wichitaveteransmemorialpark.com/event/us-army-recruit-swearing-in-ceremony/
ATTACH;FMTTYPE=image/jpeg:https://wichitaveteransmemorialpark.com/wp-content/uploads/2021/03/USA_Swearing-in_3-13-21_6_oath_ICT_mayor_Whipple_oath_1_WA-scaled.jpg
END:VEVENT
BEGIN:VEVENT
DTSTART;TZID=UTC:20201219T110000
DTEND;TZID=UTC:20201219T120000
DTSTAMP:20260422T051611
CREATED:20201118T231742Z
LAST-MODIFIED:20201118T231742Z
UID:16154-1608375600-1608379200@wichitaveteransmemorialpark.com
SUMMARY:Wreaths Across America
DESCRIPTION:Approximately a one hour ceremony occurring simultaneously with other WAA ceremonies around the country. This local ceremony will include: \n\nFull military honors (USAF color guard\, “Taps” played live\, etc)\n7 wreaths mounted (1 for each branch of US military and for POWs-MIAs)
URL:https://wichitaveteransmemorialpark.com/event/wreaths-across-america-2/
END:VEVENT
BEGIN:VEVENT
DTSTART;TZID=UTC:20201207T080000
DTEND;TZID=UTC:20201207T083000
DTSTAMP:20260422T051611
CREATED:20201125T010704Z
LAST-MODIFIED:20201125T010819Z
UID:16156-1607328000-1607329800@wichitaveteransmemorialpark.com
SUMMARY:Pearl Harbor Day Commemoration
DESCRIPTION:“Taps” will be played on the bugle and a memorial wreath will be laid at the Pearl Harbor Memorial.
URL:https://wichitaveteransmemorialpark.com/event/pearl-harbor-day-commemoration/
LOCATION:Wichita Veterans Memorial Park\, 339 Veterans Parkway\, Wichita\, KS\, 67203\, United States
END:VEVENT
BEGIN:VEVENT
DTSTART;TZID=UTC:20201111T105500
DTEND;TZID=UTC:20201111T113000
DTSTAMP:20260422T051611
CREATED:20201106T230537Z
LAST-MODIFIED:20201106T230639Z
UID:16119-1605092100-1605094200@wichitaveteransmemorialpark.com
SUMMARY:2020 Veterans Day Ceremony with playing of "Taps"
DESCRIPTION:This year’s program will be in conjunction with the National Salute to Veterans which is timed to match the program at Arlington Cemetery’s Tomb of the Unknowns.  This year’s ceremony will start precisely at 1055 to allow for the intro to end before Taps is played at 1100 sharp\, “the 11th hour of the 11th day of the 11th month.”  Taps will be played throughout the entire country at this time and will continue a tradition reinstituted in 2015 and is expected to continue.\n\n         1055: Opening with welcome and recognition of guests\n         1100:  Taps (to coincide with the National Salute)\n         1101:  Continue with opening (this years program was planned for 2018 and was “weathered out” two years in a row.\n                    (Of course\, it is hoped this year will be different.)\n                                   1st Speaker will speak on the end of WW-I\n                                   2nd Speaker will speak on Vietnam’s Tet Offensive of 1968\n          1120: Ceremony will close with benediction.\n\nNote:  Times are approximate except for the opening which will be on time rain or shine.
URL:https://wichitaveteransmemorialpark.com/event/2020-veterans-day-ceremony-with-playing-of-taps/
LOCATION:Wichita Veterans Memorial Park\, 339 Veterans Parkway\, Wichita\, KS\, 67203\, United States
END:VEVENT
BEGIN:VEVENT
DTSTART;TZID=UTC:20201004T130000
DTEND;TZID=UTC:20201004T140000
DTSTAMP:20260422T051611
CREATED:20200704T173124Z
LAST-MODIFIED:20200921T185713Z
UID:15968-1601816400-1601820000@wichitaveteransmemorialpark.com
SUMMARY:Tolling of the Boats
DESCRIPTION:Conducted at the SS Dorado Memorial in Wichita Veterans Memorial Park. \nOfficiated by the United States Submarine Veterans\, Inc. \nThe name of each USN Submarine lost will be read with: \n\nWhere it was lost\,\nWhen it was lost\,\nHow many hands were aboard when it was lost\, and\nIf any Kansans were aboard\, their individual names will be read.\n\nIn memorium\, a carnation will be thrown into the river after each submarine’s details are read. \n 
URL:https://wichitaveteransmemorialpark.com/event/tolling-of-the-boats/
END:VEVENT
BEGIN:VEVENT
DTSTART;VALUE=DATE:20200923
DTEND;VALUE=DATE:20200927
DTSTAMP:20260422T051611
CREATED:20200106T230032Z
LAST-MODIFIED:20200706T152141Z
UID:15856-1600819200-1601164799@wichitaveteransmemorialpark.com
SUMMARY:Berlin Veterans Airlift Association Reunion (Canceled)
DESCRIPTION:Canceled due to changing travel restrictions\, etc associated with the COVID-19 coronavirus situation.
URL:https://wichitaveteransmemorialpark.com/event/berlin-veterans-airlift-association-reunion/
END:VEVENT
BEGIN:VEVENT
DTSTART;TZID=UTC:20200902T090000
DTEND;TZID=UTC:20200902T213000
DTSTAMP:20260422T051611
CREATED:20200214T025645Z
LAST-MODIFIED:20200831T153628Z
UID:15864-1599037200-1599082200@wichitaveteransmemorialpark.com
SUMMARY:75th Anniversary of VJ Day (the end of World War 2)
DESCRIPTION:
URL:https://wichitaveteransmemorialpark.com/event/75th-anniversary-of-vj-day-the-end-of-world-war-2/
END:VEVENT
BEGIN:VEVENT
DTSTART;TZID=UTC:20200727T083000
DTEND;TZID=UTC:20200727T090000
DTSTAMP:20260422T051611
CREATED:20200627T234737Z
LAST-MODIFIED:20200627T234737Z
UID:15938-1595838600-1595840400@wichitaveteransmemorialpark.com
SUMMARY:Remembrance of the Korean War
DESCRIPTION:Gather at the Korean War Memorial.
URL:https://wichitaveteransmemorialpark.com/event/remembrance-of-the-korean-war/
END:VEVENT
BEGIN:VEVENT
DTSTART;TZID=UTC:20200704T100000
DTEND;TZID=UTC:20200704T113000
DTSTAMP:20260422T051611
CREATED:20200610T002405Z
LAST-MODIFIED:20200610T002405Z
UID:15934-1593856800-1593862200@wichitaveteransmemorialpark.com
SUMMARY:Independence Day Commemoration
DESCRIPTION:There will be American flags\, a gun salute\, the playing of “Taps” and other appropriate songs on the trumpet.
URL:https://wichitaveteransmemorialpark.com/event/independence-day-commemoration/
LOCATION:Wichita Veterans Memorial Park\, 339 Veterans Parkway\, Wichita\, KS\, 67203\, United States
END:VEVENT
BEGIN:VEVENT
DTSTART;TZID=UTC:20200606T100000
DTEND;TZID=UTC:20200606T103000
DTSTAMP:20260422T051611
CREATED:20200528T001308Z
LAST-MODIFIED:20200528T001401Z
UID:15893-1591437600-1591439400@wichitaveteransmemorialpark.com
SUMMARY:Commemoration of the 76th anniversary of D-Day
DESCRIPTION:A wreath will be laid at the World War Two Memorial in honor of those Allied soldiers\, sailors and airmen who participated in the Allied Invasion of Europe\, also known as the D-Day invasion of Normandy of June 6\, 1944. \nSpecial prayers will be said followed by the playing of “Taps” on a bugle.
URL:https://wichitaveteransmemorialpark.com/event/commemoration-of-the-76th-anniversary-of-d-day/
END:VEVENT
BEGIN:VEVENT
DTSTART;TZID=UTC:20200329T140000
DTEND;TZID=UTC:20200329T153000
DTSTAMP:20260422T051611
CREATED:20200214T025454Z
LAST-MODIFIED:20200317T002952Z
UID:15862-1585490400-1585495800@wichitaveteransmemorialpark.com
SUMMARY:(Canceled) Vietnam Veterans Day
DESCRIPTION:Due to the restrictions imposed related to the COVID-19 (coronavirus) this event has been canceled.
URL:https://wichitaveteransmemorialpark.com/event/vietnam-veterans-day/
END:VEVENT
BEGIN:VEVENT
DTSTART;TZID=UTC:20191214T110000
DTEND;TZID=UTC:20191214T113000
DTSTAMP:20260422T051611
CREATED:20191107T015542Z
LAST-MODIFIED:20191107T180858Z
UID:15617-1576321200-1576323000@wichitaveteransmemorialpark.com
SUMMARY:Wreaths Across America
DESCRIPTION:Ceremony with full military honors: \n11AM\nDecember 14\, 2019\nWichita Veterans Memorial Park\nFull military honors including:\n\n\nColor Guard\nGun Salute\n“Taps” bugler\n\n\nWreath layings immediately following at the following Wichita cemeteries:\n\n\nAscension\nCalvary\nHighland\nMaple Grove\nResurrection Cemeteries
URL:https://wichitaveteransmemorialpark.com/event/wreaths-across-america/
LOCATION:Wichita Veterans Memorial Park\, 339 Veterans Parkway\, Wichita\, KS\, 67203\, United States
END:VEVENT
BEGIN:VEVENT
DTSTART;TZID=UTC:20191207T110000
DTEND;TZID=UTC:20191207T120000
DTSTAMP:20260422T051611
CREATED:20191203T183957Z
LAST-MODIFIED:20191203T183957Z
UID:15796-1575716400-1575720000@wichitaveteransmemorialpark.com
SUMMARY:Pearl Harbor Commemoration
DESCRIPTION:Representatives of the US Navy will lay a wreath at the Pearl Harbor Memorial.
URL:https://wichitaveteransmemorialpark.com/event/pearl-harbor-commemoration/
LOCATION:Wichita Veterans Memorial Park\, 339 Veterans Parkway\, Wichita\, KS\, 67203\, United States
END:VEVENT
BEGIN:VEVENT
DTSTART;TZID=America/North_Dakota/Center:20191111T110000
DTEND;TZID=America/North_Dakota/Center:20191111T120000
DTSTAMP:20260422T051611
CREATED:20191105T024630Z
LAST-MODIFIED:20191107T015324Z
UID:15614-1573470000-1573473600@wichitaveteransmemorialpark.com
SUMMARY:Veterans Day Ceremony
DESCRIPTION:Time: 11 AM \nPlace: Wichita Veterans Memorial Park \nA presentation will be made about the 51st anniv of vietnam’s Tet 1968 attacks.
URL:https://wichitaveteransmemorialpark.com/event/veterans-day-ceremony/
LOCATION:Wichita Veterans Memorial Park\, 339 Veterans Parkway\, Wichita\, KS\, 67203\, United States
ORGANIZER;CN="WVMP":MAILTO:VMPWI2022@gmail.com
END:VEVENT
BEGIN:VEVENT
DTSTART;VALUE=DATE:20190704
DTEND;VALUE=DATE:20190705
DTSTAMP:20260422T051611
CREATED:20181105T213101Z
LAST-MODIFIED:20181105T213101Z
UID:15342-1562198400-1562284799@wichitaveteransmemorialpark.com
SUMMARY:Independence Day
DESCRIPTION:In recognition of the Freedom that we now all enjoy.
URL:https://wichitaveteransmemorialpark.com/event/independence-day/
END:VEVENT
BEGIN:VEVENT
DTSTART;VALUE=DATE:20190527
DTEND;VALUE=DATE:20190528
DTSTAMP:20260422T051611
CREATED:20181105T212933Z
LAST-MODIFIED:20181105T212933Z
UID:15338-1558915200-1559001599@wichitaveteransmemorialpark.com
SUMMARY:Memorial Day
DESCRIPTION:To remember all those veterans who have gone before
URL:https://wichitaveteransmemorialpark.com/event/memorial-day/
END:VEVENT
BEGIN:VEVENT
DTSTART;VALUE=DATE:20181111
DTEND;VALUE=DATE:20181112
DTSTAMP:20260422T051611
CREATED:20181105T213011Z
LAST-MODIFIED:20181105T213011Z
UID:15340-1541894400-1541980799@wichitaveteransmemorialpark.com
SUMMARY:Veterans Day
DESCRIPTION:To remember those who have served in the past and presently serve.
URL:https://wichitaveteransmemorialpark.com/event/veterans-day/
END:VEVENT
END:VCALENDAR